BEGIN:VCALENDAR
VERSION:2.0
PRODID:-//Karada House - ECPv6.15.17//NONSGML v1.0//EN
CALSCALE:GREGORIAN
METHOD:PUBLISH
X-WR-CALNAME:Karada House
X-ORIGINAL-URL:https://karada-house.de
X-WR-CALDESC:Events for Karada House
REFRESH-INTERVAL;VALUE=DURATION:PT1H
X-Robots-Tag:noindex
X-PUBLISHED-TTL:PT1H
BEGIN:VTIMEZONE
TZID:Europe/Berlin
BEGIN:DAYLIGHT
TZOFFSETFROM:+0100
TZOFFSETTO:+0200
TZNAME:CEST
DTSTART:20220327T010000
END:DAYLIGHT
BEGIN:STANDARD
TZOFFSETFROM:+0200
TZOFFSETTO:+0100
TZNAME:CET
DTSTART:20221030T010000
END:STANDARD
BEGIN:DAYLIGHT
TZOFFSETFROM:+0100
TZOFFSETTO:+0200
TZNAME:CEST
DTSTART:20230326T010000
END:DAYLIGHT
BEGIN:STANDARD
TZOFFSETFROM:+0200
TZOFFSETTO:+0100
TZNAME:CET
DTSTART:20231029T010000
END:STANDARD
BEGIN:DAYLIGHT
TZOFFSETFROM:+0100
TZOFFSETTO:+0200
TZNAME:CEST
DTSTART:20240331T010000
END:DAYLIGHT
BEGIN:STANDARD
TZOFFSETFROM:+0200
TZOFFSETTO:+0100
TZNAME:CET
DTSTART:20241027T010000
END:STANDARD
END:VTIMEZONE
BEGIN:VEVENT
DTSTART;TZID=Europe/Berlin:20230217T203000
DTEND;TZID=Europe/Berlin:20230217T223000
DTSTAMP:20260424T002442
CREATED:20221124T164221Z
LAST-MODIFIED:20251128T154750Z
UID:10001074-1676665800-1676673000@karada-house.de
SUMMARY:Ropes for Resistance: Jorogumo Shibari (Performance)
DESCRIPTION:This performance by Río and Jorogumo Shibari puts into practice what they understand as ropes for resistance. The performance is followed by a discussion.\n\n\n\n\nDetails: \nFormat: performance \nMinimum Knowledge Level:  – \nWhat to Bring: – \nSolo or Partnered: any constellation \nClass recording: yes \nThis class will be recorded (only the facilitator\, not the participants) and is available for ticket holders for 30 days after the event. \n 
URL:https://karada-house.de/events/resistance-performance/
ATTACH;FMTTYPE=image/jpeg:https://karada-house.de/wp-content/uploads/2022/11/IMG_9308-scaled.jpeg
END:VEVENT
BEGIN:VEVENT
DTSTART;TZID=Europe/Berlin:20230217T181500
DTEND;TZID=Europe/Berlin:20230217T201500
DTSTAMP:20260424T002442
CREATED:20221124T163353Z
LAST-MODIFIED:20251128T154749Z
UID:10001073-1676657700-1676664900@karada-house.de
SUMMARY:Ropes for Resistance
DESCRIPTION:This talk is about how it has been for Río and the Jorogumo Shibari crew to live in México while learning and practicing ropes. Río will tell us about how the specific context\, geography\, race\, gender\, and brutal violence cross with his rope practice and how he has found ropes to be a tool for the defense and recovery of people’s bodies by feeling and filling them with pleasure\, and eroticism.\n\n\n\n\nDetails: \nFormat: lecture/demonstration \nMinimum Knowledge Level:  – \nWhat to Bring: – \nSolo or Partnered: any constellation \nClass recording: yes \nThis class will be recorded (only the facilitator\, not the participants) and is available for ticket holders for 30 days after the event. \n 
URL:https://karada-house.de/events/resistance/
ATTACH;FMTTYPE=image/jpeg:https://karada-house.de/wp-content/uploads/2022/11/IMG_9356-scaled.jpeg
END:VEVENT
END:VCALENDAR