BEGIN:VCALENDAR
VERSION:2.0
PRODID:-//Karada House - ECPv6.15.17//NONSGML v1.0//EN
CALSCALE:GREGORIAN
METHOD:PUBLISH
X-WR-CALNAME:Karada House
X-ORIGINAL-URL:https://karada-house.de
X-WR-CALDESC:Events for Karada House
REFRESH-INTERVAL;VALUE=DURATION:PT1H
X-Robots-Tag:noindex
X-PUBLISHED-TTL:PT1H
BEGIN:VTIMEZONE
TZID:Europe/Berlin
BEGIN:DAYLIGHT
TZOFFSETFROM:+0100
TZOFFSETTO:+0200
TZNAME:CEST
DTSTART:20230326T010000
END:DAYLIGHT
BEGIN:STANDARD
TZOFFSETFROM:+0200
TZOFFSETTO:+0100
TZNAME:CET
DTSTART:20231029T010000
END:STANDARD
BEGIN:DAYLIGHT
TZOFFSETFROM:+0100
TZOFFSETTO:+0200
TZNAME:CEST
DTSTART:20240331T010000
END:DAYLIGHT
BEGIN:STANDARD
TZOFFSETFROM:+0200
TZOFFSETTO:+0100
TZNAME:CET
DTSTART:20241027T010000
END:STANDARD
BEGIN:DAYLIGHT
TZOFFSETFROM:+0100
TZOFFSETTO:+0200
TZNAME:CEST
DTSTART:20250330T010000
END:DAYLIGHT
BEGIN:STANDARD
TZOFFSETFROM:+0200
TZOFFSETTO:+0100
TZNAME:CET
DTSTART:20251026T010000
END:STANDARD
BEGIN:DAYLIGHT
TZOFFSETFROM:+0100
TZOFFSETTO:+0200
TZNAME:CEST
DTSTART:20260329T010000
END:DAYLIGHT
BEGIN:STANDARD
TZOFFSETFROM:+0200
TZOFFSETTO:+0100
TZNAME:CET
DTSTART:20261025T010000
END:STANDARD
END:VTIMEZONE
BEGIN:VEVENT
DTSTART;TZID=Europe/Berlin:20250907T100000
DTEND;TZID=Europe/Berlin:20250907T113000
DTSTAMP:20260422T075445
CREATED:20250607T104207Z
LAST-MODIFIED:20251129T112706Z
UID:10000039-1757239200-1757244600@karada-house.de
SUMMARY:Intimate Session: Niko & Raph
DESCRIPTION:This series allows rope facilitators to show participants how they approach intimate sessions\, away from modes of teaching or performing. Come and witness an improvised intimate moment amongst people who do rope (pretty well). We will blur the lines of the private and the public\, the curated and the improvised. After the session\, there is time for a little chat\, Q&A and/or just sharing thoughts\, dreams and wishes. \nFormat: intimate session
URL:https://karada-house.de/events/intimate-session-niko-raph/
CATEGORIES:shibari
ATTACH;FMTTYPE=image/jpeg:https://karada-house.de/wp-content/uploads/2025/06/IMG_0831-Niko-Kinbaku.jpeg
END:VEVENT
BEGIN:VEVENT
DTSTART;TZID=Europe/Berlin:20250904T100000
DTEND;TZID=Europe/Berlin:20250904T123000
DTSTAMP:20260422T075445
CREATED:20250603T114440Z
LAST-MODIFIED:20251129T115135Z
UID:10000011-1756980000-1756989000@karada-house.de
SUMMARY:Shall We Dance? (Meeting through Movement)
DESCRIPTION:This workshop offers a space to connect with another person through movement and body awareness. The goal is simple but meaningful: to let two people move together in harmony\, without speaking — just by being present\, breathing\, and paying attention to each other. \nThrough small and progressive exercises in pairs and in groups\, we’ll explore how to listen to your inner rhythm\, be fully present with your partner\, tune into your sensations\, and move together in harmony — using only the tension of a rope as our guide. \nThis is not a dance class in the usual sense. It’s an invitation to move together as a way of meeting — without leading\, without controlling\, simply allowing a quiet and sincere dialogue to emerge between two bodies. \nIf you don’t feel comfortable with dancing\, this workshop is made for you! \n 
URL:https://karada-house.de/events/shall-we-dance/
CATEGORIES:shibari
ATTACH;FMTTYPE=image/jpeg:https://karada-house.de/wp-content/uploads/2025/06/MG_5724.jpg
END:VEVENT
BEGIN:VEVENT
DTSTART;TZID=Europe/Berlin:20240216T181500
DTEND;TZID=Europe/Berlin:20240216T201500
DTSTAMP:20260422T075445
CREATED:20231126T142524Z
LAST-MODIFIED:20251128T155248Z
UID:10001470-1708107300-1708114500@karada-house.de
SUMMARY:Quick Shot
DESCRIPTION:Performing on stage involves a number of constraints\, such as working from a single hanging point\, a lack of visibility from moving lighting\, and a very short playing time in which we like to make a few transitions.\nFrom equipment to tips and tricks\, we will meet these conditions by managing tension lines on several carabiners and the 3rd rope TK & “quick futomomo” we made our own. \n  \n\n\n\n\nDetails: \nFormat: hands-on workshop \nMinimum Knowledge Level:  people tying:: TK as Gorgone’s or Naka’s style and confident with tension lines management\, person getting tied:: be familiar with a suspended TK\n(the practice also works with a front-hand harness) \nWhat to Bring: 9 ropes / 4-5 symmetrical 0 or pear-shaped carabiners/swivel (optional) \nSolo or Partnered: any constellation for watching\, partnered if you want to tie along \nClass recording: yes \nThis class will be recorded (only the facilitator\, not the participants) and is available for ticket holders for 30 days after the event. \n 
URL:https://karada-house.de/events/quick-shot/
ATTACH;FMTTYPE=image/jpeg:https://karada-house.de/wp-content/uploads/2023/11/NIKOKBK-Quick-shot-Niko-Kinbaku.jpeg
END:VEVENT
BEGIN:VEVENT
DTSTART;TZID=Europe/Berlin:20240215T203000
DTEND;TZID=Europe/Berlin:20240215T223000
DTSTAMP:20260422T075445
CREATED:20231126T134801Z
LAST-MODIFIED:20251128T155244Z
UID:10001466-1708029000-1708036200@karada-house.de
SUMMARY:Rope As You Are
DESCRIPTION:An approach for all skills levels in which the model is caught in the ropes while dressed.\nThe clothes merge with the ropes to become supports and tools such as floor work to semi-suspension. \n  \nDetails: \nFormat: hands-on workshop \nMinimum Knowledge Level: floor work: lark’s head\, single column tie\, tension\, basic frictions / semi-suspension: tension line management \nWhat to Bring: clothes (top/shorts/pants) ready to get tied up / floor work: 3-4 ropes / semi-suspension: 6-7 ropes\n \nSolo or Partnered: any constellation for watching\, partnered if you want to tie along \nClass recording: yes \nThis class will be recorded (only the facilitator\, not the participants) and is available for ticket holders for 30 days after the event. \n 
URL:https://karada-house.de/events/as-you-are/
ATTACH;FMTTYPE=image/jpeg:https://karada-house.de/wp-content/uploads/2023/11/NIKOKBK-Rope-as-you-are-Niko-Kinbaku.jpeg
END:VEVENT
END:VCALENDAR