BEGIN:VCALENDAR
VERSION:2.0
PRODID:-//Karada House - ECPv6.15.17//NONSGML v1.0//EN
CALSCALE:GREGORIAN
METHOD:PUBLISH
X-WR-CALNAME:Karada House
X-ORIGINAL-URL:https://karada-house.de
X-WR-CALDESC:Events for Karada House
REFRESH-INTERVAL;VALUE=DURATION:PT1H
X-Robots-Tag:noindex
X-PUBLISHED-TTL:PT1H
BEGIN:VTIMEZONE
TZID:Europe/Berlin
BEGIN:DAYLIGHT
TZOFFSETFROM:+0100
TZOFFSETTO:+0200
TZNAME:CEST
DTSTART:20220327T010000
END:DAYLIGHT
BEGIN:STANDARD
TZOFFSETFROM:+0200
TZOFFSETTO:+0100
TZNAME:CET
DTSTART:20221030T010000
END:STANDARD
BEGIN:DAYLIGHT
TZOFFSETFROM:+0100
TZOFFSETTO:+0200
TZNAME:CEST
DTSTART:20230326T010000
END:DAYLIGHT
BEGIN:STANDARD
TZOFFSETFROM:+0200
TZOFFSETTO:+0100
TZNAME:CET
DTSTART:20231029T010000
END:STANDARD
BEGIN:DAYLIGHT
TZOFFSETFROM:+0100
TZOFFSETTO:+0200
TZNAME:CEST
DTSTART:20240331T010000
END:DAYLIGHT
BEGIN:STANDARD
TZOFFSETFROM:+0200
TZOFFSETTO:+0100
TZNAME:CET
DTSTART:20241027T010000
END:STANDARD
BEGIN:DAYLIGHT
TZOFFSETFROM:+0100
TZOFFSETTO:+0200
TZNAME:CEST
DTSTART:20250330T010000
END:DAYLIGHT
BEGIN:STANDARD
TZOFFSETFROM:+0200
TZOFFSETTO:+0100
TZNAME:CET
DTSTART:20251026T010000
END:STANDARD
BEGIN:DAYLIGHT
TZOFFSETFROM:+0100
TZOFFSETTO:+0200
TZNAME:CEST
DTSTART:20260329T010000
END:DAYLIGHT
BEGIN:STANDARD
TZOFFSETFROM:+0200
TZOFFSETTO:+0100
TZNAME:CET
DTSTART:20261025T010000
END:STANDARD
END:VTIMEZONE
BEGIN:VEVENT
DTSTART;TZID=Europe/Berlin:20250907T120000
DTEND;TZID=Europe/Berlin:20250907T133000
DTSTAMP:20260422T080123
CREATED:20250607T102700Z
LAST-MODIFIED:20251129T112455Z
UID:10000037-1757246400-1757251800@karada-house.de
SUMMARY:Macro vs Micro Transitions
DESCRIPTION:In this class we will discuss how to build a suspension scene and go through a transition sequence. We will discuss thought processes\, trouble shooting\, macro and micro transitions\, and communication between top and bottom \nWorkshop partner: Anansi
URL:https://karada-house.de/events/macro-micro/
CATEGORIES:shibari
ATTACH;FMTTYPE=image/jpeg:https://karada-house.de/wp-content/uploads/2025/06/MG_9319.jpg
END:VEVENT
BEGIN:VEVENT
DTSTART;TZID=Europe/Berlin:20250906T100000
DTEND;TZID=Europe/Berlin:20250906T123000
DTSTAMP:20260422T080123
CREATED:20250606T124030Z
LAST-MODIFIED:20251129T113611Z
UID:10000030-1757152800-1757161800@karada-house.de
SUMMARY:Make it Hurt More
DESCRIPTION:This class begins discussions and demonstrates how to safely use your body weight (and gravity) to make it hurt more. This is an advanced level class that focuses on the gradual progression of pulling\, leaning\, then actually climbing on top of a suspended bottom. There will be oohs\, aahhs\, and hopefully lots of screams \nWorkshop partner: Anansi
URL:https://karada-house.de/events/more/
CATEGORIES:shibari
ATTACH;FMTTYPE=image/jpeg:https://karada-house.de/wp-content/uploads/2025/06/MG_8759.jpg
END:VEVENT
BEGIN:VEVENT
DTSTART;TZID=Europe/Berlin:20250604T100000
DTEND;TZID=Europe/Berlin:20250604T113000
DTSTAMP:20260422T080123
CREATED:20250603T115309Z
LAST-MODIFIED:20251128T161528Z
UID:10002256-1749031200-1749036600@karada-house.de
SUMMARY:Intimate Session: Anansi & Ms. Reemah
DESCRIPTION:This series allows rope facilitators to show participants how they approach intimate sessions\, away from modes of teaching or performing. Come and witness an improvised intimate moment amongst people who do rope (pretty well). We will blur the lines of the private and the public\, the curated and the improvised. After the session\, there is time for a little chat\, Q&A and/or just sharing thoughts\, dreams and wishes. \n  \nFormat: intimate session \nMinimum knowledge level: – \nparticipants: as many as fit \nWhat to bring: – \nConstellations: – \nOkay to watch passively?:  obviously yes \nAccessibility: –
URL:https://karada-house.de/events/intimate-session-anansi-ms-reemah/
ATTACH;FMTTYPE=image/png:https://karada-house.de/wp-content/uploads/2025/06/Bildschirmfoto-2025-06-06-um-13.06.50-e1749208146736.png
END:VEVENT
BEGIN:VEVENT
DTSTART;TZID=Europe/Berlin:20230219T160000
DTEND;TZID=Europe/Berlin:20230219T180000
DTSTAMP:20260422T080123
CREATED:20221124T174733Z
LAST-MODIFIED:20251128T154802Z
UID:10001082-1676822400-1676829600@karada-house.de
SUMMARY:Make It Hurt More: Lean into it
DESCRIPTION:Ms. Reemah will give an in-depth explanation and demo of how to safely use your body weight and gravity to increase the oos and ahs of your bottom. This is an advanced class showing how to gradually climb on top of your bottom during suspension. \nTying partner: Lavender \n  \nDetails: \nFormat: lecture & demonstration \nMinimum Knowledge Level: participants should be at suspension level \nWhat to Bring: sustainable harnesses that can be suspended\, knowledge of attachment and upline management\, weight distribution in suspension \nSolo or Partnered: any constellation\, partnered if you wanna tie along \nClass recording: yes \nThis class will be recorded (only the facilitator\, not the participants) and is available for ticket holders for 30 days after the event. \n 
URL:https://karada-house.de/events/lean-in/
ATTACH;FMTTYPE=image/jpeg:https://karada-house.de/wp-content/uploads/2022/11/Ms.-Reemah-and-Shika-Reemah-Awo-scaled.jpg
END:VEVENT
BEGIN:VEVENT
DTSTART;TZID=Europe/Berlin:20230216T181500
DTEND;TZID=Europe/Berlin:20230216T201500
DTSTAMP:20260422T080123
CREATED:20221124T154107Z
LAST-MODIFIED:20251128T154746Z
UID:10001068-1676571300-1676578500@karada-house.de
SUMMARY:Fat Rope and Heavy Pleasure
DESCRIPTION:This roundtable conversation between Ceci Ferox\, Cegregia\, and Ms. Reemah explores what it means to be fat in the world of rope. How does fat and weight influence how we tie and get tied? What are the politics around fatness and rope? And what kind of juicy tricks and pleasurable hacks have we found through our own and other people’s fat bodies? \nThis discussion centers on the fat body not as an object but as the protagonist. If you are fat\, we invite you to share your own joy and pleasure. If you are not fat\, we invite you to listen in on this sharing and to give space. \n  \nDetails: \nFormat: discussion \nMinimum Knowledge Level: – \nWhat to Bring:  – \nSolo or Partnered: any constellation \nClass recording: yes \nThis class will be recorded (only the facilitator\, not the participants) and is available for ticket holders for 30 days after the event. \n 
URL:https://karada-house.de/events/fat-rope-pleasure/
ATTACH;FMTTYPE=image/jpeg:https://karada-house.de/wp-content/uploads/2022/11/Ms.-Reemah-and-Shika-Reemah-Awo-Kopie-scaled.jpg
END:VEVENT
END:VCALENDAR