BEGIN:VCALENDAR
VERSION:2.0
PRODID:-//Karada House - ECPv6.15.17//NONSGML v1.0//EN
CALSCALE:GREGORIAN
METHOD:PUBLISH
X-ORIGINAL-URL:https://karada-house.de
X-WR-CALDESC:Events for Karada House
REFRESH-INTERVAL;VALUE=DURATION:PT1H
X-Robots-Tag:noindex
X-PUBLISHED-TTL:PT1H
BEGIN:VTIMEZONE
TZID:Europe/Berlin
BEGIN:DAYLIGHT
TZOFFSETFROM:+0100
TZOFFSETTO:+0200
TZNAME:CEST
DTSTART:20230326T010000
END:DAYLIGHT
BEGIN:STANDARD
TZOFFSETFROM:+0200
TZOFFSETTO:+0100
TZNAME:CET
DTSTART:20231029T010000
END:STANDARD
BEGIN:DAYLIGHT
TZOFFSETFROM:+0100
TZOFFSETTO:+0200
TZNAME:CEST
DTSTART:20240331T010000
END:DAYLIGHT
BEGIN:STANDARD
TZOFFSETFROM:+0200
TZOFFSETTO:+0100
TZNAME:CET
DTSTART:20241027T010000
END:STANDARD
BEGIN:DAYLIGHT
TZOFFSETFROM:+0100
TZOFFSETTO:+0200
TZNAME:CEST
DTSTART:20250330T010000
END:DAYLIGHT
BEGIN:STANDARD
TZOFFSETFROM:+0200
TZOFFSETTO:+0100
TZNAME:CET
DTSTART:20251026T010000
END:STANDARD
END:VTIMEZONE
BEGIN:VEVENT
DTSTART;TZID=Europe/Berlin:20240915T103000
DTEND;TZID=Europe/Berlin:20240915T120000
DTSTAMP:20260422T013036
CREATED:20240814T141405Z
LAST-MODIFIED:20251128T160826Z
UID:10001817-1726396200-1726401600@karada-house.de
SUMMARY:Intimate Session: Renée de Sans & Mara Gelato
DESCRIPTION:  \nThis series allows rope facilitators to show participants how they approach intimate sessions\, away from modes of teaching or performing. Come and witness an improvised intimate moment amongst people who do rope (pretty well). We will blur the lines of the private and the public\, the curated and the improvised. After the session\, there is time for a little chat\, Q&A and/or just sharing thoughts\, dreams and wishes. \n  \nFormat: intimate session \nMinimum knowledge level: – \nMaximum amount of participants: as many as fit \nWhat to bring: – \nConstellations: all constellations welcome \nAccessibility: we will be on the floor for some time
URL:https://karada-house.de/events/qr24-intimate-rene-gelato/
ATTACH;FMTTYPE=image/jpeg:https://karada-house.de/wp-content/uploads/2024/08/MG_2113-scaled.jpg
END:VEVENT
END:VCALENDAR