BEGIN:VCALENDAR
VERSION:2.0
PRODID:-//Karada House - ECPv6.15.17//NONSGML v1.0//EN
CALSCALE:GREGORIAN
METHOD:PUBLISH
X-WR-CALNAME:Karada House
X-ORIGINAL-URL:https://karada-house.de
X-WR-CALDESC:Events for Karada House
REFRESH-INTERVAL;VALUE=DURATION:PT1H
X-Robots-Tag:noindex
X-PUBLISHED-TTL:PT1H
BEGIN:VTIMEZONE
TZID:Europe/Berlin
BEGIN:DAYLIGHT
TZOFFSETFROM:+0100
TZOFFSETTO:+0200
TZNAME:CEST
DTSTART:20250330T010000
END:DAYLIGHT
BEGIN:STANDARD
TZOFFSETFROM:+0200
TZOFFSETTO:+0100
TZNAME:CET
DTSTART:20251026T010000
END:STANDARD
BEGIN:DAYLIGHT
TZOFFSETFROM:+0100
TZOFFSETTO:+0200
TZNAME:CEST
DTSTART:20260329T010000
END:DAYLIGHT
BEGIN:STANDARD
TZOFFSETFROM:+0200
TZOFFSETTO:+0100
TZNAME:CET
DTSTART:20261025T010000
END:STANDARD
BEGIN:DAYLIGHT
TZOFFSETFROM:+0100
TZOFFSETTO:+0200
TZNAME:CEST
DTSTART:20270328T010000
END:DAYLIGHT
BEGIN:STANDARD
TZOFFSETFROM:+0200
TZOFFSETTO:+0100
TZNAME:CET
DTSTART:20271031T010000
END:STANDARD
END:VTIMEZONE
BEGIN:VEVENT
DTSTART;TZID=Europe/Berlin:20260212T203000
DTEND;TZID=Europe/Berlin:20260212T223000
DTSTAMP:20260419T180815
CREATED:20251203T145648Z
LAST-MODIFIED:20260223T120709Z
UID:211106-1770928200-1770935400@karada-house.de
SUMMARY:Rope Trends\, Beauty Standards\, and Accessibility
DESCRIPTION:Shibari does not exist in a vacuum\, the subculture has its own trends and norms. These are not static\, but change with time and follow power. Ties and aesthetics have different levels of accessibility. This is a demo and exploration on the last 15 years of rope trends. Ceci will share their observations\, and you’re invited to share your own experiences. \nWe will try some retro ties and analyze the similarities and differences with current trends. Ceci will cover both harnesses and suspension shapes through demos and a presentation. Some ties are possible to self-tie\, some will require tying with a partner.
URL:https://karada-house.de/events/vqr26-trends/
CATEGORIES:shibari
ATTACH;FMTTYPE=image/jpeg:https://karada-house.de/wp-content/uploads/2024/12/MG_2833-scaled.jpg
LOCATION:https://karada-house.de/events/vqr26-trends/
END:VEVENT
END:VCALENDAR