BEGIN:VCALENDAR
VERSION:2.0
PRODID:-//Karada House - ECPv6.15.17//NONSGML v1.0//EN
CALSCALE:GREGORIAN
METHOD:PUBLISH
X-WR-CALNAME:Karada House
X-ORIGINAL-URL:https://karada-house.de
X-WR-CALDESC:Events for Karada House
REFRESH-INTERVAL;VALUE=DURATION:PT1H
X-Robots-Tag:noindex
X-PUBLISHED-TTL:PT1H
BEGIN:VTIMEZONE
TZID:Europe/Berlin
BEGIN:DAYLIGHT
TZOFFSETFROM:+0100
TZOFFSETTO:+0200
TZNAME:CEST
DTSTART:20250330T010000
END:DAYLIGHT
BEGIN:STANDARD
TZOFFSETFROM:+0200
TZOFFSETTO:+0100
TZNAME:CET
DTSTART:20251026T010000
END:STANDARD
BEGIN:DAYLIGHT
TZOFFSETFROM:+0100
TZOFFSETTO:+0200
TZNAME:CEST
DTSTART:20260329T010000
END:DAYLIGHT
BEGIN:STANDARD
TZOFFSETFROM:+0200
TZOFFSETTO:+0100
TZNAME:CET
DTSTART:20261025T010000
END:STANDARD
BEGIN:DAYLIGHT
TZOFFSETFROM:+0100
TZOFFSETTO:+0200
TZNAME:CEST
DTSTART:20270328T010000
END:DAYLIGHT
BEGIN:STANDARD
TZOFFSETFROM:+0200
TZOFFSETTO:+0100
TZNAME:CET
DTSTART:20271031T010000
END:STANDARD
END:VTIMEZONE
BEGIN:VEVENT
DTSTART;TZID=Europe/Berlin:20260214T120000
DTEND;TZID=Europe/Berlin:20260214T133000
DTSTAMP:20260419T163312
CREATED:20251203T154815Z
LAST-MODIFIED:20260127T211732Z
UID:211129-1771070400-1771075800@karada-house.de
SUMMARY:Rope Bodies: A Conversation on Disability\, Chronic Illness\, and Kink
DESCRIPTION:This structured conversation explores the intersections of disability\, chronic illness\, and rope practice. Led by Mouse\, a rope educator living with fibromyalgia\, this discussion creates space for honest dialogue about adapting rope practice to fluctuating abilities\, communicating needs with partners\, and challenging the ableist assumptions embedded in rope culture. \nWe’ll explore topics including: managing energy levels and pacing in rope scenes\, navigating “good days” and “bad days” with partners\, disclosing (or not disclosing) disability in rope spaces\, adapting techniques for pain management\, building sustainable rope practices\, and finding community as a disabled rope practitioner. \nThis is a space for sharing experiences\, asking difficult questions\, and building collective knowledge about making rope truly accessible. Whether you’re disabled/chronically ill yourself\, partner with someone who is\, or simply want to be a better ally in rope spaces\, this conversation will provide insight\, validation\, and practical strategies for creating more inclusive rope communities
URL:https://karada-house.de/events/vqr26-bodies/
CATEGORIES:shibari
ATTACH;FMTTYPE=image/jpeg:https://karada-house.de/wp-content/uploads/2025/12/mg_5753.jpg
LOCATION:https://karada-house.de/events/vqr26-bodies/
END:VEVENT
END:VCALENDAR