BEGIN:VCALENDAR
VERSION:2.0
PRODID:-//Karada House - ECPv6.15.17//NONSGML v1.0//EN
CALSCALE:GREGORIAN
METHOD:PUBLISH
X-WR-CALNAME:Karada House
X-ORIGINAL-URL:https://karada-house.de
X-WR-CALDESC:Events for Karada House
REFRESH-INTERVAL;VALUE=DURATION:PT1H
X-Robots-Tag:noindex
X-PUBLISHED-TTL:PT1H
BEGIN:VTIMEZONE
TZID:Europe/Berlin
BEGIN:DAYLIGHT
TZOFFSETFROM:+0100
TZOFFSETTO:+0200
TZNAME:CEST
DTSTART:20240331T010000
END:DAYLIGHT
BEGIN:STANDARD
TZOFFSETFROM:+0200
TZOFFSETTO:+0100
TZNAME:CET
DTSTART:20241027T010000
END:STANDARD
BEGIN:DAYLIGHT
TZOFFSETFROM:+0100
TZOFFSETTO:+0200
TZNAME:CEST
DTSTART:20250330T010000
END:DAYLIGHT
BEGIN:STANDARD
TZOFFSETFROM:+0200
TZOFFSETTO:+0100
TZNAME:CET
DTSTART:20251026T010000
END:STANDARD
BEGIN:DAYLIGHT
TZOFFSETFROM:+0100
TZOFFSETTO:+0200
TZNAME:CEST
DTSTART:20260329T010000
END:DAYLIGHT
BEGIN:STANDARD
TZOFFSETFROM:+0200
TZOFFSETTO:+0100
TZNAME:CET
DTSTART:20261025T010000
END:STANDARD
END:VTIMEZONE
BEGIN:VEVENT
DTSTART;TZID=Europe/Berlin:20250905T100000
DTEND;TZID=Europe/Berlin:20250905T120000
DTSTAMP:20260422T074907
CREATED:20250603T121731Z
LAST-MODIFIED:20251129T114412Z
UID:174375-1757066400-1757073600@karada-house.de
SUMMARY:Technically A Suspension
DESCRIPTION:This is a class in opposition to the often high pressures and demands of suspension\, where the goal is to find ways to leave the ground without adding complication\, physical strain\, or pretentiousness. Perhaps we get off the ground for a moment\, or a cm\, or partly supported on a body/furniture\, or using a pulley\, or making a rope hammock\, or only if the person in ropes flexes to lift off… it totally counts! This class touches on accessibility topics – what are suspension methods that don’t require hand/grip strength? How can we add extra supports for sore bodies\, or suspend without constricting certain areas? Bring questions and queries\, there will be time to lab out special requests! \nWorkshop partner: Barkas
URL:https://karada-house.de/events/technically-suspension/
CATEGORIES:shibari
ATTACH;FMTTYPE=image/jpeg:https://karada-house.de/wp-content/uploads/2024/06/8c4acbc8-aacd-49a8-9dce-62f7a787e245.jpeg
END:VEVENT
END:VCALENDAR