BEGIN:VCALENDAR
VERSION:2.0
PRODID:-//Karada House - ECPv6.15.17//NONSGML v1.0//EN
CALSCALE:GREGORIAN
METHOD:PUBLISH
X-WR-CALNAME:Karada House
X-ORIGINAL-URL:https://karada-house.de
X-WR-CALDESC:Events for Karada House
REFRESH-INTERVAL;VALUE=DURATION:PT1H
X-Robots-Tag:noindex
X-PUBLISHED-TTL:PT1H
BEGIN:VTIMEZONE
TZID:Europe/Berlin
BEGIN:DAYLIGHT
TZOFFSETFROM:+0100
TZOFFSETTO:+0200
TZNAME:CEST
DTSTART:20240331T010000
END:DAYLIGHT
BEGIN:STANDARD
TZOFFSETFROM:+0200
TZOFFSETTO:+0100
TZNAME:CET
DTSTART:20241027T010000
END:STANDARD
BEGIN:DAYLIGHT
TZOFFSETFROM:+0100
TZOFFSETTO:+0200
TZNAME:CEST
DTSTART:20250330T010000
END:DAYLIGHT
BEGIN:STANDARD
TZOFFSETFROM:+0200
TZOFFSETTO:+0100
TZNAME:CET
DTSTART:20251026T010000
END:STANDARD
BEGIN:DAYLIGHT
TZOFFSETFROM:+0100
TZOFFSETTO:+0200
TZNAME:CEST
DTSTART:20260329T010000
END:DAYLIGHT
BEGIN:STANDARD
TZOFFSETFROM:+0200
TZOFFSETTO:+0100
TZNAME:CET
DTSTART:20261025T010000
END:STANDARD
END:VTIMEZONE
BEGIN:VEVENT
DTSTART;TZID=Europe/Berlin:20250907T153000
DTEND;TZID=Europe/Berlin:20250907T173000
DTSTAMP:20260422T062524
CREATED:20250607T110001Z
LAST-MODIFIED:20251129T112356Z
UID:174625-1757259000-1757266200@karada-house.de
SUMMARY:The Single! The Column! The Tie!
DESCRIPTION:Single column ties are the first structure most people learn\, the starting point to many ties\, the foundation of suspension lines\, one of the most pervasive elements of rope play… yet they are hardly ever the centre of teaching attention. This class approaches single columns from a variety of directions – finger techniques to tie them more efficiently while maintaining balance\, tricks for tying them with gusto and while playing\, tweaks to make them sit or behave in particular ways\, and a plethora of other tips\, tricks\, fun\, and geekery. Back to basics\, with flare!
URL:https://karada-house.de/events/sct/
ATTACH;FMTTYPE=image/jpeg:https://karada-house.de/wp-content/uploads/2025/08/mg_5824.jpg
END:VEVENT
END:VCALENDAR