BEGIN:VCALENDAR
VERSION:2.0
PRODID:-//Karada House - ECPv6.15.17//NONSGML v1.0//EN
CALSCALE:GREGORIAN
METHOD:PUBLISH
X-WR-CALNAME:Karada House
X-ORIGINAL-URL:https://karada-house.de
X-WR-CALDESC:Events for Karada House
REFRESH-INTERVAL;VALUE=DURATION:PT1H
X-Robots-Tag:noindex
X-PUBLISHED-TTL:PT1H
BEGIN:VTIMEZONE
TZID:Europe/Berlin
BEGIN:DAYLIGHT
TZOFFSETFROM:+0100
TZOFFSETTO:+0200
TZNAME:CEST
DTSTART:20240331T010000
END:DAYLIGHT
BEGIN:STANDARD
TZOFFSETFROM:+0200
TZOFFSETTO:+0100
TZNAME:CET
DTSTART:20241027T010000
END:STANDARD
BEGIN:DAYLIGHT
TZOFFSETFROM:+0100
TZOFFSETTO:+0200
TZNAME:CEST
DTSTART:20250330T010000
END:DAYLIGHT
BEGIN:STANDARD
TZOFFSETFROM:+0200
TZOFFSETTO:+0100
TZNAME:CET
DTSTART:20251026T010000
END:STANDARD
BEGIN:DAYLIGHT
TZOFFSETFROM:+0100
TZOFFSETTO:+0200
TZNAME:CEST
DTSTART:20260329T010000
END:DAYLIGHT
BEGIN:STANDARD
TZOFFSETFROM:+0200
TZOFFSETTO:+0100
TZNAME:CET
DTSTART:20261025T010000
END:STANDARD
END:VTIMEZONE
BEGIN:VEVENT
DTSTART;TZID=Europe/Berlin:20250814T200000
DTEND;TZID=Europe/Berlin:20250814T220000
DTSTAMP:20260422T125548
CREATED:20250618T165845Z
LAST-MODIFIED:20251129T120749Z
UID:175096-1755201600-1755208800@karada-house.de
SUMMARY:Role-Playing or Role-Being: Identity\, Exploration\, and Mental Health
DESCRIPTION:Roleplaying is a powerful opportunity for evoking emotions and characters from inside us or invoking personas for an evening of fun. For a variety of individuals on mental health adventures\, this amazing tool can be used for more than erotic naughtiness or delight or find themselves challenged by the journeys they take. \nIndividuals dancing with depression exploring roles that let them “fake it ‘til you make it.” People with dissociative identity disorder using an opportunity to have a personality “front” in an agreed upon space. Folks living with anxiety finding safety in pre-set roles where protection roles are at play. These are but a few places where role-playing… or role-being in certain cases… can be used. \nIn this class we will creatively brainstorm how individuals with an array of mental health challenges and differences can thrive using roles and personas in kink and roleplay contexts\, while also acknowledging that things can also go wrong in roleplay because of our past trauma\, triggers\, and non-disclosed mental health realities. Let’s build understanding\, help each other explore\, and have partners look at their role in these opportunities for play and beyond. \nWhat we will teach/do\n\nExplore the definitions of Role-Playing compared to Role-Being\nFind both minor and major differences between playing a role and sharing a part of ourselves in a roleplaying context\nDiscover ways to tap into these roles\, parts of self\, and identities\, as well as how to exit those head spaces\nShare tools for what to do if things go “sideways” and to reduce the likelihood of such concerns taking place\nConsider systems of aftercare and connection that can aid in grounding concerning role-playing and role-being scenes.\n\n\n 
URL:https://karada-house.de/events/rolebeing/
CATEGORIES:kink
ATTACH;FMTTYPE=image/jpeg:https://karada-house.de/wp-content/uploads/2025/06/MG_8645.jpg
END:VEVENT
END:VCALENDAR