BEGIN:VCALENDAR
VERSION:2.0
PRODID:-//Karada House - ECPv6.15.17//NONSGML v1.0//EN
CALSCALE:GREGORIAN
METHOD:PUBLISH
X-WR-CALNAME:Karada House
X-ORIGINAL-URL:https://karada-house.de
X-WR-CALDESC:Events for Karada House
REFRESH-INTERVAL;VALUE=DURATION:PT1H
X-Robots-Tag:noindex
X-PUBLISHED-TTL:PT1H
BEGIN:VTIMEZONE
TZID:Europe/Berlin
BEGIN:DAYLIGHT
TZOFFSETFROM:+0100
TZOFFSETTO:+0200
TZNAME:CEST
DTSTART:20240331T010000
END:DAYLIGHT
BEGIN:STANDARD
TZOFFSETFROM:+0200
TZOFFSETTO:+0100
TZNAME:CET
DTSTART:20241027T010000
END:STANDARD
BEGIN:DAYLIGHT
TZOFFSETFROM:+0100
TZOFFSETTO:+0200
TZNAME:CEST
DTSTART:20250330T010000
END:DAYLIGHT
BEGIN:STANDARD
TZOFFSETFROM:+0200
TZOFFSETTO:+0100
TZNAME:CET
DTSTART:20251026T010000
END:STANDARD
BEGIN:DAYLIGHT
TZOFFSETFROM:+0100
TZOFFSETTO:+0200
TZNAME:CEST
DTSTART:20260329T010000
END:DAYLIGHT
BEGIN:STANDARD
TZOFFSETFROM:+0200
TZOFFSETTO:+0100
TZNAME:CET
DTSTART:20261025T010000
END:STANDARD
END:VTIMEZONE
BEGIN:VEVENT
DTSTART;TZID=Europe/Berlin:20250820T190000
DTEND;TZID=Europe/Berlin:20250820T210000
DTSTAMP:20260422T112249
CREATED:20250618T155354Z
LAST-MODIFIED:20251129T120458Z
UID:175079-1755716400-1755723600@karada-house.de
SUMMARY:Playfight & Rough Body Play Lab
DESCRIPTION:Use your body in a vastly different way. Restricted\, restrained\, maybe even tamed – our bodies are subdued to very strict rules and movements in our daily lives. Time to get primal and rough. Rough body play allows for more fighting\, emotions\, and a deeper exploration of power dynamics than play fights. \nOnce a month we open Karada House for 2 hours of randori (free fights) time to try your new skills and have fun. \nWhat is the difference between play fight and rough body play?\nPlay fights are literally that – play fighting for the fun of it. Rough body play is similar but allows and adds components of power dynamics\, kinky vibes\, etc. In this lab you get to choose how you want to engage. Just fun fights? Cool! A little more kink\, i.e. you wanting to lose to someone\, including face slaps \, etc.? Cool\, too. You get to propose how you want to fight and if someone else likes that and wants to join\, negotiations happen and then fight\, fight\, fight! \nWhat we will do\nOur amazing instructor Montse will guide through \n\nwarm-up exercises\nconsent & safety\ndos & don’ts\nafter that – fight!\naftercare and snacks
URL:https://karada-house.de/events/rbp-0825/
LOCATION:KARA\, Perleberger Straße 59\, Berlin\, 10559\, Germany
CATEGORIES:kink,sports
ATTACH;FMTTYPE=image/jpeg:https://karada-house.de/wp-content/uploads/2023/07/MG_2553-scaled.jpeg
END:VEVENT
END:VCALENDAR