BEGIN:VCALENDAR
VERSION:2.0
PRODID:-//Karada House - ECPv6.15.17//NONSGML v1.0//EN
CALSCALE:GREGORIAN
METHOD:PUBLISH
X-WR-CALNAME:Karada House
X-ORIGINAL-URL:https://karada-house.de
X-WR-CALDESC:Events for Karada House
REFRESH-INTERVAL;VALUE=DURATION:PT1H
X-Robots-Tag:noindex
X-PUBLISHED-TTL:PT1H
BEGIN:VTIMEZONE
TZID:Europe/Berlin
BEGIN:DAYLIGHT
TZOFFSETFROM:+0100
TZOFFSETTO:+0200
TZNAME:CEST
DTSTART:20250330T010000
END:DAYLIGHT
BEGIN:STANDARD
TZOFFSETFROM:+0200
TZOFFSETTO:+0100
TZNAME:CET
DTSTART:20251026T010000
END:STANDARD
BEGIN:DAYLIGHT
TZOFFSETFROM:+0100
TZOFFSETTO:+0200
TZNAME:CEST
DTSTART:20260329T010000
END:DAYLIGHT
BEGIN:STANDARD
TZOFFSETFROM:+0200
TZOFFSETTO:+0100
TZNAME:CET
DTSTART:20261025T010000
END:STANDARD
BEGIN:DAYLIGHT
TZOFFSETFROM:+0100
TZOFFSETTO:+0200
TZNAME:CEST
DTSTART:20270328T010000
END:DAYLIGHT
BEGIN:STANDARD
TZOFFSETFROM:+0200
TZOFFSETTO:+0100
TZNAME:CET
DTSTART:20271031T010000
END:STANDARD
END:VTIMEZONE
BEGIN:VEVENT
DTSTART;TZID=Europe/Berlin:20260226T190000
DTEND;TZID=Europe/Berlin:20260226T210000
DTSTAMP:20260421T122926
CREATED:20251011T151538Z
LAST-MODIFIED:20260226T121558Z
UID:213782-1772132400-1772139600@karada-house.de
SUMMARY:Kink is Political – Welcomeness
DESCRIPTION:Kink is Political is an online discussion with Addie Tahl\, Georg Barkas\, Andrea Rimon\, and occasional special guests. Participants are invited to join a discussion during which we unite critique with an emphasis on the practical and day-to-day issues and challenges of kink\, intimacy\, and relationships. \n\n\n\nFocusing on concepts central to BDSM\, leather\, rope\, and sex-positive communities\, it interrogates widely adopted approaches and commonly held notions. It aims to understand the politics of kink beyond the language of sexual liberation and politics of sexual liberalism\, both frames that have proven insufficient in addressing widespread harm\, a rising international tide of sex-negativity and reaction\, or in guaranteeing that the most marginalized can sexually flourish. \n\n\n\nKink is Political is an examination of the contexts and consequences of how we talk about and understand gender and sexuality. It is a forum to think about how kink spaces and practices operate\, what works\, what doesn’t\, and what we can use to build something better. \n\n\n\nThis month’s topic: Welcomeness\n\n\n\nIn February’s session\, we’ll discuss the concept of “welcomeness” as it appears in sexual harassment law in the United States. We’ll ask: how might the concept of welcomeness help us think through the assumptions of a consent standard? How do we deal with cases where asking for consent may in and of itself be an aggression or cause of harm? What are the ways that “welcomeness” falls short\, and provides cover for pervasive sexual harm?  \n\n\n\n\n\n 
URL:https://karada-house.de/events/kink-is-political-welcomeness/
CATEGORIES:politics
ATTACH;FMTTYPE=image/jpeg:https://karada-house.de/wp-content/uploads/2025/10/mg_9652-scaled.jpg
LOCATION:https://karada-house.de/events/kink-is-political-welcomeness/
END:VEVENT
END:VCALENDAR