BEGIN:VCALENDAR
VERSION:2.0
PRODID:-//Karada House - ECPv6.15.17//NONSGML v1.0//EN
CALSCALE:GREGORIAN
METHOD:PUBLISH
X-WR-CALNAME:Karada House
X-ORIGINAL-URL:https://karada-house.de
X-WR-CALDESC:Events for Karada House
REFRESH-INTERVAL;VALUE=DURATION:PT1H
X-Robots-Tag:noindex
X-PUBLISHED-TTL:PT1H
BEGIN:VTIMEZONE
TZID:Europe/Berlin
BEGIN:DAYLIGHT
TZOFFSETFROM:+0100
TZOFFSETTO:+0200
TZNAME:CEST
DTSTART:20240331T010000
END:DAYLIGHT
BEGIN:STANDARD
TZOFFSETFROM:+0200
TZOFFSETTO:+0100
TZNAME:CET
DTSTART:20241027T010000
END:STANDARD
BEGIN:DAYLIGHT
TZOFFSETFROM:+0100
TZOFFSETTO:+0200
TZNAME:CEST
DTSTART:20250330T010000
END:DAYLIGHT
BEGIN:STANDARD
TZOFFSETFROM:+0200
TZOFFSETTO:+0100
TZNAME:CET
DTSTART:20251026T010000
END:STANDARD
BEGIN:DAYLIGHT
TZOFFSETFROM:+0100
TZOFFSETTO:+0200
TZNAME:CEST
DTSTART:20260329T010000
END:DAYLIGHT
BEGIN:STANDARD
TZOFFSETFROM:+0200
TZOFFSETTO:+0100
TZNAME:CET
DTSTART:20261025T010000
END:STANDARD
END:VTIMEZONE
BEGIN:VEVENT
DTSTART;TZID=Europe/Berlin:20251113T190000
DTEND;TZID=Europe/Berlin:20251113T210000
DTSTAMP:20260421T190231
CREATED:20251009T100201Z
LAST-MODIFIED:20251129T103709Z
UID:181998-1763060400-1763067600@karada-house.de
SUMMARY:Kink is Political – Community\, Culture\, and Social Character
DESCRIPTION:Kink is Political is an online discussion with Addie Tahl\, Georg Barkas\, Andrea Rimon\, and occasional special guests. Participants are invited to join a discussion during which we unite critique with an emphasis on the practical and day-to-day issues and challenges of kink\, intimacy\, and relationships. \n\n\n\nFocusing on concepts central to BDSM\, leather\, rope\, and sex-positive communities\, it interrogates widely adopted approaches and commonly held notions. It aims to understand the politics of kink beyond the language of sexual liberation and politics of sexual liberalism\, both frames that have proven insufficient in addressing widespread harm\, a rising international tide of sex-negativity and reaction\, or in guaranteeing that the most marginalized can sexually flourish. \n\n\n\nKink is Political is an examination of the contexts and consequences of how we talk about and understand gender and sexuality. It is a forum to think about how kink spaces and practices operate\, what works\, what doesn’t\, and what we can use to build something better. \n\n\n\nThis month’s topic: Community\, Culture\, and Social Character\n\n\n\nIn our first session\, we’ll inquire into how the structure of our organizations and broader community infrastructure shapes our culture and what we do. We’ll start from the example of the rope scene and move on to broader kink and sex positive communities. Along\, the way\, we’ll ask: Who does trying attract? What do different kinds of tying pedagogy teach us about ways of being in the world? What are the consequences of participating in practics so built around private space? Is there something authoritarian built into the ways that we gather?  
URL:https://karada-house.de/events/kink-is-political-1/
CATEGORIES:kink,politics
ATTACH;FMTTYPE=image/jpeg:https://karada-house.de/wp-content/uploads/2025/10/mg_9652-scaled.jpg
END:VEVENT
END:VCALENDAR