BEGIN:VCALENDAR
VERSION:2.0
PRODID:-//Karada House - ECPv6.15.17//NONSGML v1.0//EN
CALSCALE:GREGORIAN
METHOD:PUBLISH
X-WR-CALNAME:Karada House
X-ORIGINAL-URL:https://karada-house.de
X-WR-CALDESC:Events for Karada House
REFRESH-INTERVAL;VALUE=DURATION:PT1H
X-Robots-Tag:noindex
X-PUBLISHED-TTL:PT1H
BEGIN:VTIMEZONE
TZID:Europe/Berlin
BEGIN:DAYLIGHT
TZOFFSETFROM:+0100
TZOFFSETTO:+0200
TZNAME:CEST
DTSTART:20240331T010000
END:DAYLIGHT
BEGIN:STANDARD
TZOFFSETFROM:+0200
TZOFFSETTO:+0100
TZNAME:CET
DTSTART:20241027T010000
END:STANDARD
BEGIN:DAYLIGHT
TZOFFSETFROM:+0100
TZOFFSETTO:+0200
TZNAME:CEST
DTSTART:20250330T010000
END:DAYLIGHT
BEGIN:STANDARD
TZOFFSETFROM:+0200
TZOFFSETTO:+0100
TZNAME:CET
DTSTART:20251026T010000
END:STANDARD
BEGIN:DAYLIGHT
TZOFFSETFROM:+0100
TZOFFSETTO:+0200
TZNAME:CEST
DTSTART:20260329T010000
END:DAYLIGHT
BEGIN:STANDARD
TZOFFSETFROM:+0200
TZOFFSETTO:+0100
TZNAME:CET
DTSTART:20261025T010000
END:STANDARD
END:VTIMEZONE
BEGIN:VEVENT
DTSTART;TZID=Europe/Berlin:20250906T100000
DTEND;TZID=Europe/Berlin:20250906T113000
DTSTAMP:20260422T080529
CREATED:20250606T124250Z
LAST-MODIFIED:20251129T113653Z
UID:174528-1757152800-1757158200@karada-house.de
SUMMARY:Intimate Session: Addie & Barkas
DESCRIPTION:This series allows rope facilitators to show participants how they approach intimate sessions\, away from modes of teaching or performing. Come and witness an improvised intimate moment amongst people who do rope (pretty well). We will blur the lines of the private and the public\, the curated and the improvised. After the session\, there is time for a little chat\, Q&A and/or just sharing thoughts\, dreams and wishes. \nFormat: intimate session
URL:https://karada-house.de/events/intimate-session-addie-barkas/
CATEGORIES:shibari
ATTACH;FMTTYPE=image/jpeg:https://karada-house.de/wp-content/uploads/2025/06/00E66C91-4F73-447B-B307-4F408F1571E7_1_105_c.jpeg
END:VEVENT
END:VCALENDAR