BEGIN:VCALENDAR
VERSION:2.0
PRODID:-//Karada House - ECPv6.15.17//NONSGML v1.0//EN
CALSCALE:GREGORIAN
METHOD:PUBLISH
X-WR-CALNAME:Karada House
X-ORIGINAL-URL:https://karada-house.de
X-WR-CALDESC:Events for Karada House
REFRESH-INTERVAL;VALUE=DURATION:PT1H
X-Robots-Tag:noindex
X-PUBLISHED-TTL:PT1H
BEGIN:VTIMEZONE
TZID:Europe/Berlin
BEGIN:DAYLIGHT
TZOFFSETFROM:+0100
TZOFFSETTO:+0200
TZNAME:CEST
DTSTART:20250330T010000
END:DAYLIGHT
BEGIN:STANDARD
TZOFFSETFROM:+0200
TZOFFSETTO:+0100
TZNAME:CET
DTSTART:20251026T010000
END:STANDARD
BEGIN:DAYLIGHT
TZOFFSETFROM:+0100
TZOFFSETTO:+0200
TZNAME:CEST
DTSTART:20260329T010000
END:DAYLIGHT
BEGIN:STANDARD
TZOFFSETFROM:+0200
TZOFFSETTO:+0100
TZNAME:CET
DTSTART:20261025T010000
END:STANDARD
BEGIN:DAYLIGHT
TZOFFSETFROM:+0100
TZOFFSETTO:+0200
TZNAME:CEST
DTSTART:20270328T010000
END:DAYLIGHT
BEGIN:STANDARD
TZOFFSETFROM:+0200
TZOFFSETTO:+0100
TZNAME:CET
DTSTART:20271031T010000
END:STANDARD
END:VTIMEZONE
BEGIN:VEVENT
DTSTART;TZID=Europe/Berlin:20260219T190000
DTEND;TZID=Europe/Berlin:20260219T210000
DTSTAMP:20260419T144942
CREATED:20251205T140707Z
LAST-MODIFIED:20251205T140908Z
UID:211521-1771527600-1771534800@karada-house.de
SUMMARY:Hogties for Everyone
DESCRIPTION:This session explores an iconic bondage position: the Hogtie! – but lets explore it to suit different moods\, preferences and limits. \nWhat if your partner struggles to keep their hands behind their back? How do you fluidly move someone in and out of this position without just asking them to lie down? How can you make it meaner…? \nWhether you crave the strict restraint of a classic hogtie\, prefer a playful approach with wiggle room\, or need specific adaptations for your partner’s body\, there’s something for everyone as we explore both traditional damsel-in-distress style and versatile\, innovative interpretations. \n 
URL:https://karada-house.de/events/hogties-for-everyone/
CATEGORIES:shibari
ATTACH;FMTTYPE=image/jpeg:https://karada-house.de/wp-content/uploads/2024/08/2024-08-30-18.04.47.jpg
LOCATION:https://karada-house.de/events/hogties-for-everyone/
END:VEVENT
END:VCALENDAR