BEGIN:VCALENDAR
VERSION:2.0
PRODID:-//Karada House - ECPv6.15.17//NONSGML v1.0//EN
CALSCALE:GREGORIAN
METHOD:PUBLISH
X-WR-CALNAME:Karada House
X-ORIGINAL-URL:https://karada-house.de
X-WR-CALDESC:Events for Karada House
REFRESH-INTERVAL;VALUE=DURATION:PT1H
X-Robots-Tag:noindex
X-PUBLISHED-TTL:PT1H
BEGIN:VTIMEZONE
TZID:Europe/Berlin
BEGIN:DAYLIGHT
TZOFFSETFROM:+0100
TZOFFSETTO:+0200
TZNAME:CEST
DTSTART:20240331T010000
END:DAYLIGHT
BEGIN:STANDARD
TZOFFSETFROM:+0200
TZOFFSETTO:+0100
TZNAME:CET
DTSTART:20241027T010000
END:STANDARD
BEGIN:DAYLIGHT
TZOFFSETFROM:+0100
TZOFFSETTO:+0200
TZNAME:CEST
DTSTART:20250330T010000
END:DAYLIGHT
BEGIN:STANDARD
TZOFFSETFROM:+0200
TZOFFSETTO:+0100
TZNAME:CET
DTSTART:20251026T010000
END:STANDARD
BEGIN:DAYLIGHT
TZOFFSETFROM:+0100
TZOFFSETTO:+0200
TZNAME:CEST
DTSTART:20260329T010000
END:DAYLIGHT
BEGIN:STANDARD
TZOFFSETFROM:+0200
TZOFFSETTO:+0100
TZNAME:CET
DTSTART:20261025T010000
END:STANDARD
END:VTIMEZONE
BEGIN:VEVENT
DTSTART;TZID=Europe/Berlin:20250913T110000
DTEND;TZID=Europe/Berlin:20250914T180000
DTSTAMP:20260422T050217
CREATED:20250421T143225Z
LAST-MODIFIED:20251129T110936Z
UID:172582-1757761200-1757872800@karada-house.de
SUMMARY:Addie & Barkas: Experimental Kinbaku
DESCRIPTION:For Addie and Barkas experimental kinbaku means exploring ways of tying with each other that don’t rely on cliches of tradition\, sexuality\, or psychology. \nIn this weekend intensive\, we will develop different approaches to Kinbaku by stepping into a dialogue with other forms of interpersonal interaction. We will implement contexts of intimacy\, communication\, power\, art\, movement\, and politics into our practice of tying and experiment with an arrangement of techniques that allows us to learn more and different things about each other. \nThis workshop is following an “all levels” approach\, which means that we encourage practitioners at any stage of their learning to participate. Switching absolutely welcome but for time reasons\, not every exercise can be done by both. \nTopics we will cover in this intensive workshop\n\nPreparations and introduction\nBasic concepts of experimental systems\nContexts of Kinbaku\nTying with each other rather than tying each other. Communication\nThe personal is political. Tying as a statement beyond the private encounter\nLet’s not forget the joy of tying\n\nNote: Participants of this workshop automatically have free entry our performance evening INTIMATE SESSIONS that includes a session with Addie and Barkas. \n  \n\n 
URL:https://karada-house.de/events/experimental-kinbaku/
LOCATION:KARA\, Perleberger Straße 59\, Berlin\, 10559\, Germany
CATEGORIES:shibari
ATTACH;FMTTYPE=image/jpeg:https://karada-house.de/wp-content/uploads/2021/12/IMG_6168-Georg-Barkas-scaled.jpg
ORGANIZER;CN="Georg Barkas":MAILTO:barkas@barkaskinbaku.com
END:VEVENT
END:VCALENDAR