BEGIN:VCALENDAR
VERSION:2.0
PRODID:-//Karada House - ECPv6.15.17//NONSGML v1.0//EN
CALSCALE:GREGORIAN
METHOD:PUBLISH
X-WR-CALNAME:Karada House
X-ORIGINAL-URL:https://karada-house.de
X-WR-CALDESC:Events for Karada House
REFRESH-INTERVAL;VALUE=DURATION:PT1H
X-Robots-Tag:noindex
X-PUBLISHED-TTL:PT1H
BEGIN:VTIMEZONE
TZID:Europe/Berlin
BEGIN:DAYLIGHT
TZOFFSETFROM:+0100
TZOFFSETTO:+0200
TZNAME:CEST
DTSTART:20250330T010000
END:DAYLIGHT
BEGIN:STANDARD
TZOFFSETFROM:+0200
TZOFFSETTO:+0100
TZNAME:CET
DTSTART:20251026T010000
END:STANDARD
BEGIN:DAYLIGHT
TZOFFSETFROM:+0100
TZOFFSETTO:+0200
TZNAME:CEST
DTSTART:20260329T010000
END:DAYLIGHT
BEGIN:STANDARD
TZOFFSETFROM:+0200
TZOFFSETTO:+0100
TZNAME:CET
DTSTART:20261025T010000
END:STANDARD
BEGIN:DAYLIGHT
TZOFFSETFROM:+0100
TZOFFSETTO:+0200
TZNAME:CEST
DTSTART:20270328T010000
END:DAYLIGHT
BEGIN:STANDARD
TZOFFSETFROM:+0200
TZOFFSETTO:+0100
TZNAME:CET
DTSTART:20271031T010000
END:STANDARD
END:VTIMEZONE
BEGIN:VEVENT
DTSTART;TZID=Europe/Berlin:20260831T190000
DTEND;TZID=Europe/Berlin:20260831T210000
DTSTAMP:20260421T111953
CREATED:20260412T144406Z
LAST-MODIFIED:20260412T144406Z
UID:218940-1788202800-1788210000@karada-house.de
SUMMARY:Dark Roleplaying
DESCRIPTION:We have been “playing pretend” since we were young\, but kinky sexuality opens up new and potentially taboo forms of roleplaying. Join us as we explore the shadowy realms of our fantasies and make-believe we can try on: abduction\, torture\, snuff\, fantastical creatures\, and anything else our twisted minds can dream up. \nWhat we will explore:\n\nThe joys of playing consensually in our closets\nWhy these dark desires turn us on\nHow to bring up these taboo interests with our partners\nNegotiating our interests\nTroubleshooting the challenges these types of roleplaying fantasies can elicit
URL:https://karada-house.de/events/dark-roleplaying/
CATEGORIES:kink
ATTACH;FMTTYPE=image/jpeg:https://karada-house.de/wp-content/uploads/2025/05/MG_4866.jpg
LOCATION:https://karada-house.de/events/dark-roleplaying/
END:VEVENT
END:VCALENDAR