BEGIN:VCALENDAR
VERSION:2.0
PRODID:-//Karada House - ECPv6.15.17//NONSGML v1.0//EN
CALSCALE:GREGORIAN
METHOD:PUBLISH
X-WR-CALNAME:Karada House
X-ORIGINAL-URL:https://karada-house.de
X-WR-CALDESC:Events for Karada House
REFRESH-INTERVAL;VALUE=DURATION:PT1H
X-Robots-Tag:noindex
X-PUBLISHED-TTL:PT1H
BEGIN:VTIMEZONE
TZID:Europe/Berlin
BEGIN:DAYLIGHT
TZOFFSETFROM:+0100
TZOFFSETTO:+0200
TZNAME:CEST
DTSTART:20250330T010000
END:DAYLIGHT
BEGIN:STANDARD
TZOFFSETFROM:+0200
TZOFFSETTO:+0100
TZNAME:CET
DTSTART:20251026T010000
END:STANDARD
BEGIN:DAYLIGHT
TZOFFSETFROM:+0100
TZOFFSETTO:+0200
TZNAME:CEST
DTSTART:20260329T010000
END:DAYLIGHT
BEGIN:STANDARD
TZOFFSETFROM:+0200
TZOFFSETTO:+0100
TZNAME:CET
DTSTART:20261025T010000
END:STANDARD
BEGIN:DAYLIGHT
TZOFFSETFROM:+0100
TZOFFSETTO:+0200
TZNAME:CEST
DTSTART:20270328T010000
END:DAYLIGHT
BEGIN:STANDARD
TZOFFSETFROM:+0200
TZOFFSETTO:+0100
TZNAME:CET
DTSTART:20271031T010000
END:STANDARD
END:VTIMEZONE
BEGIN:VEVENT
DTSTART;TZID=Europe/Berlin:20260702T190000
DTEND;TZID=Europe/Berlin:20260702T210000
DTSTAMP:20260421T110422
CREATED:20260412T143739Z
LAST-MODIFIED:20260412T143853Z
UID:218931-1783018800-1783026000@karada-house.de
SUMMARY:Aftercare Tools: Exploring Our Routes to Safety
DESCRIPTION:Aftercare isn’t just a nice idea — it’s a vital part of returning to homeostasis after intense scenes and powerful experiences. Through discussion and embodied exercises inspired by Jake Ernst’s “Routes of Safety\,” we’ll explore tools for shared\, self\, and group aftercare\, so that soft landings become as intentional as our scenes. \nWhat we will explore:\n\nWho needs aftercare\, what agreements are in place\, and when care begins and ends\nHow consent\, communication\, and power dynamics shape aftercare from scene to scene and person to person\nHow to name our needs with honesty and compassion\, especially when our capacity doesn’t match our partner’s\nThe often-overlooked realms of pre-care and during-care\nPathways for grounding\, reconnection\, and gentle reintegration
URL:https://karada-house.de/events/aftercare-tools-exploring-our-routes-to-safety/
CATEGORIES:kink,health,relating,psychology
ATTACH;FMTTYPE=image/jpeg:https://karada-house.de/wp-content/uploads/2026/04/dsc7274-scaled.jpg
LOCATION:https://karada-house.de/events/aftercare-tools-exploring-our-routes-to-safety/
END:VEVENT
END:VCALENDAR