BEGIN:VCALENDAR
VERSION:2.0
PRODID:-//Karada House - ECPv6.15.17//NONSGML v1.0//EN
CALSCALE:GREGORIAN
METHOD:PUBLISH
X-ORIGINAL-URL:https://karada-house.de
X-WR-CALDESC:Events for Karada House
REFRESH-INTERVAL;VALUE=DURATION:PT1H
X-Robots-Tag:noindex
X-PUBLISHED-TTL:PT1H
BEGIN:VTIMEZONE
TZID:Europe/Berlin
BEGIN:DAYLIGHT
TZOFFSETFROM:+0100
TZOFFSETTO:+0200
TZNAME:CEST
DTSTART:20250330T010000
END:DAYLIGHT
BEGIN:STANDARD
TZOFFSETFROM:+0200
TZOFFSETTO:+0100
TZNAME:CET
DTSTART:20251026T010000
END:STANDARD
BEGIN:DAYLIGHT
TZOFFSETFROM:+0100
TZOFFSETTO:+0200
TZNAME:CEST
DTSTART:20260329T010000
END:DAYLIGHT
BEGIN:STANDARD
TZOFFSETFROM:+0200
TZOFFSETTO:+0100
TZNAME:CET
DTSTART:20261025T010000
END:STANDARD
BEGIN:DAYLIGHT
TZOFFSETFROM:+0100
TZOFFSETTO:+0200
TZNAME:CEST
DTSTART:20270328T010000
END:DAYLIGHT
BEGIN:STANDARD
TZOFFSETFROM:+0200
TZOFFSETTO:+0100
TZNAME:CET
DTSTART:20271031T010000
END:STANDARD
END:VTIMEZONE
BEGIN:VEVENT
DTSTART;TZID=Europe/Berlin:20261201T190000
DTEND;TZID=Europe/Berlin:20261201T213000
DTSTAMP:20260422T034631
CREATED:20260203T194239Z
LAST-MODIFIED:20260210T140931Z
UID:10002457-1796151600-1796160600@karada-house.de
SUMMARY:Rope Fundamentals: Psychological Effects of Tying
DESCRIPTION:Rope creates sensation and emotion. In this class\, you’ll explore how body positions and spatial relationships affect the mood and headspace of your partner. Using simple ties\, you’ll experiment with emotional intention in your rope. \nRope Fundamentals\nStart here if you’re new to rope\, want a solid foundation of shibari skills\, or need to get back to basics. You’ll learn the “what” and the “how” of tying: handling your rope\, basic knots\, simple harnesses\, and how rope can connect bodies and moods. We keep it relaxed\, safe\, and supportive.
URL:https://karada-house.de/events/shibari-psychology-1226/
LOCATION:KARA\, Perleberger Straße 59\, Berlin\, 10559\, Germany
CATEGORIES:rope school,Rope Fundamentals
ATTACH;FMTTYPE=image/jpeg:https://karada-house.de/wp-content/uploads/2025/12/mg_2884.jpg
END:VEVENT
BEGIN:VEVENT
DTSTART;TZID=Europe/Berlin:20261206T130000
DTEND;TZID=Europe/Berlin:20261206T170000
DTSTAMP:20260422T034631
CREATED:20251205T121712Z
LAST-MODIFIED:20260210T135437Z
UID:10002481-1796562000-1796576400@karada-house.de
SUMMARY:Rope Level-Up: Air - Intro to Suspension
DESCRIPTION:So you want to fly? This workshop teaches suspension basics: upline management\, attachment\, troubleshooting\, and consent communication. Explore partials\, experiment with positions\, and learn what both tops and bottoms need to feel supported and safe in the air. Perfect if you have found your favorite harnesses in the Structures classes. \nWe Will Explore:\n\nAttaching suspension lines to harnesses\nLocking suspension lines on a ring and/or bamboo\nSuspension risks and safety\nEffective communication and bottoming in suspension\nPartial suspension\n\nWho this class is for:\n\nAnyone taking their first steps into the air\nFolks who have already done suspension\, but need a refresher\nNerds who just love learning and want to pick up some new details
URL:https://karada-house.de/events/shibari-suspenson-intro-1226/
LOCATION:KARA\, Perleberger Straße 59\, Berlin\, 10559\, Germany
CATEGORIES:shibari
ATTACH;FMTTYPE=image/jpeg:https://karada-house.de/wp-content/uploads/2025/12/cila_mg_6489.jpg
END:VEVENT
BEGIN:VEVENT
DTSTART;TZID=Europe/Berlin:20261208T190000
DTEND;TZID=Europe/Berlin:20261208T213000
DTSTAMP:20260422T034631
CREATED:20251130T181157Z
LAST-MODIFIED:20260210T111758Z
UID:10002467-1796756400-1796765400@karada-house.de
SUMMARY:Rope in the Air: Kata-Ashi Suspension
DESCRIPTION:Open\, beautiful\, and vulnerable. Tie using your choice of chest harness with single column ties and a futomomo to explore one of the most intense suspension positions – kata-ashi\, with one leg up. Practice control and intention — and discover the psychological impact of exposing the body with purpose. You will also learn how to tie a futomomo in suspension. \nRope in the Air\nYou’ve got your groundwork sorted. Now we take things up — literally. Learn suspension techniques from easy to challenging in these classes offering content from beginner suspensions to pushing limits.
URL:https://karada-house.de/events/kata-ashi-shibari-1226/
LOCATION:KARA\, Perleberger Straße 59\, Berlin\, 10559\, Germany
CATEGORIES:shibari,rope school,Rope in the Air
ATTACH;FMTTYPE=image/jpeg:https://karada-house.de/wp-content/uploads/2025/06/MG_9319.jpg
END:VEVENT
BEGIN:VEVENT
DTSTART;TZID=Europe/Berlin:20261208T190000
DTEND;TZID=Europe/Berlin:20261208T220000
DTSTAMP:20260422T034631
CREATED:20260412T142758Z
LAST-MODIFIED:20260412T142758Z
UID:10002593-1796756400-1796767200@karada-house.de
SUMMARY:Fuck Around and Find Out: Bratting and Brat Taming
DESCRIPTION:The idea behind this workshop is to welcome everyone with an interest for mayhem\, resistance\, play fighting\, and mischievousness to share and learn!\nWe will be talking about roles\, care\, consent and tips for a good bratting and brat taming scene!\nWhat we will teach/do\n\n 	Definitions\, glossary and history\n 	Motivations behind this practice\n 	Roles and archetypes\n 	Risk\, responsibility and care\n 	Negotiation and scene creation\n 	Scene Ideas\n\n\n\n 
URL:https://karada-house.de/events/fuck-around-and-find-out-bratting-and-brat-taming/
CATEGORIES:kink
ATTACH;FMTTYPE=image/jpeg:https://karada-house.de/wp-content/uploads/2026/02/mg_8399.jpg
LOCATION:https://karada-house.de/events/fuck-around-and-find-out-bratting-and-brat-taming/
END:VEVENT
BEGIN:VEVENT
DTSTART;TZID=Europe/Berlin:20261227T120000
DTEND;TZID=Europe/Berlin:20261227T220000
DTSTAMP:20260422T034631
CREATED:20260113T125332Z
LAST-MODIFIED:20260323T133432Z
UID:10002532-1798372800-1798408800@karada-house.de
SUMMARY:Hook Suspension with Luna Duran
DESCRIPTION:On this day\, Luna offers 4 slots for 4 people for individual hook suspensions. \nIf you purchase a slot the base price includes:\n\nbooking Karada House for your suspension\nbooking Luna & assistant to facilitate your suspension\n2 hooks (for more hooks\, please consult Luna)\nyou can bring up to 2 people to witness\n\nThe purchase will secure your spot on the day. You will then receive an email with further instructions and direct access to Luna in case you have any other questions. \nGot more questions in regards to this offering? Here is Luna’s FAQ: www.lunaduran.com/faq-suspension-karadahouse
URL:https://karada-house.de/events/hook-suspension-with-luna-duran-dec-27/
LOCATION:KARA\, Perleberger Straße 59\, Berlin\, 10559\, Germany
CATEGORIES:art,body work
ATTACH;FMTTYPE=image/jpeg:https://karada-house.de/wp-content/uploads/2021/01/HookSusRene1.jpg
ORGANIZER;CN="Luna Duran":MAILTO:piercerinberlin@gmail.com
END:VEVENT
BEGIN:VEVENT
DTSTART;TZID=Europe/Berlin:20261228T120000
DTEND;TZID=Europe/Berlin:20261228T220000
DTSTAMP:20260422T034631
CREATED:20260113T125332Z
LAST-MODIFIED:20260323T133608Z
UID:10002531-1798459200-1798495200@karada-house.de
SUMMARY:Hook Suspension with Luna Duran
DESCRIPTION:On this day\, Luna offers 4 slots for 4 people for individual hook suspensions. \nIf you purchase a slot the base price includes:\n\nbooking Karada House for your suspension\nbooking Luna & assistant to facilitate your suspension\n2 hooks (for more hooks\, please consult Luna)\nyou can bring up to 2 people to witness\n\nThe purchase will secure your spot on the day. You will then receive an email with further instructions and direct access to Luna in case you have any other questions. \nGot more questions in regards to this offering? Here is Luna’s FAQ: www.lunaduran.com/faq-suspension-karadahouse
URL:https://karada-house.de/events/hook-suspension-with-luna-duran-dec28/
LOCATION:KARA\, Perleberger Straße 59\, Berlin\, 10559\, Germany
CATEGORIES:art,body work
ATTACH;FMTTYPE=image/jpeg:https://karada-house.de/wp-content/uploads/2021/01/HookSusRene1.jpg
ORGANIZER;CN="Luna Duran":MAILTO:piercerinberlin@gmail.com
END:VEVENT
BEGIN:VEVENT
DTSTART;TZID=Europe/Berlin:20261228T190000
DTEND;TZID=Europe/Berlin:20261228T210000
DTSTAMP:20260422T034631
CREATED:20260412T150225Z
LAST-MODIFIED:20260412T150430Z
UID:10002599-1798484400-1798491600@karada-house.de
SUMMARY:Role-Playing or Role-Being: Identity & Mental Health
DESCRIPTION:For some people role-playing is a chance for non-serious fun and delight\, while for others what looks like role-playing is anything but. For many on diverse mental health journeys\, these practices can become supportive tools: a depressed mind trying on confidence\, a dissociative system choosing who fronts in a negotiated space\, or an anxious heart finding calm in clear roles and protective structure. \nWhat we will explore:\n\nHow roles and personas can help us thrive in kink and play contexts\nThe differences between playing a part and revealing a piece of ourselves\nHow to enter and exit headspaces with intention\nStrategies for when scenes drift sideways\nApproaches to aftercare\, grounding\, and connection so that these journeys are held with care
URL:https://karada-house.de/events/role-playing-or-role-being-identity-mental-health/
CATEGORIES:kink
ATTACH;FMTTYPE=image/jpeg:https://karada-house.de/wp-content/uploads/2025/05/MG_8645.jpg
LOCATION:https://karada-house.de/events/role-playing-or-role-being-identity-mental-health/
END:VEVENT
BEGIN:VEVENT
DTSTART;TZID=Europe/Berlin:20261229T190000
DTEND;TZID=Europe/Berlin:20261229T210000
DTSTAMP:20260422T034631
CREATED:20251011T154357Z
LAST-MODIFIED:20260412T163500Z
UID:10002606-1798570800-1798578000@karada-house.de
SUMMARY:Solo Self-Ties for Frazzled Nervous Systems
DESCRIPTION:Make space for some grounding self-connection with this self-tie for frazzled nervous systems session. If you’re feeling a bit overwhelmed – you are not alone! Come as you are\, let’s take time to slow down and be gentle with our bodies. \n\n\n\nIn this guided session Sophia will offer you prompts and suggestions for a calming self-tie experience. Together\, we’ll take time to connect with our feelings and needs\, explore grounding self-touch\, and practice listening and responding to our bodies in rope. \n\n\n\nYou can even participate curled up in your bed – see you there. \n\n\n\n 
URL:https://karada-house.de/events/solo-self-ties-for-frazzled-systems/
CATEGORIES:shibari
ATTACH;FMTTYPE=image/jpeg:https://karada-house.de/wp-content/uploads/2024/02/Frazzled-scaled.jpeg
LOCATION:https://karada-house.de/events/solo-self-ties-for-frazzled-systems/
END:VEVENT
END:VCALENDAR